BEGIN:VCALENDAR
VERSION:2.0
PRODID:-//wvpreventionsolutions.org//NONSGML kigkonsult.se iCalcreator 2.30
 .10//
CALSCALE:GREGORIAN
METHOD:PUBLISH
UID:d6f5ec96-79b3-4cbe-ac9a-e273f163a05b
X-WR-CALDESC:As substance misuse prevention professionals\, we regularly fa
 ce situations that require us to make ethical decisions. Often it is clear
  how to act ethically\; sometimes it is not.\n\nThis six-hour course is th
 e original SAMHSA Center for Application of Prevention Technologies (CAPT)
  course\, which explores the six principles of the Prevention Code of Ethi
 cs. The course also introduces a decision-making process to help practitio
 ners apply this code to a variety of ethical dilemmas. \n\n6 hours of WVCB
 APP continuing education available.  \n\n**Please Note:  Continuing educat
 ion credits for this course meet the Prevention Ethics requirements for ce
 rtification. Please note that this course does NOT meet the requirements f
 or Peer Ethics.
X-WR-RELCALID:b93729710cd59e405a30792bbd716c0a
X-WR-TIMEZONE:America/New_York
BEGIN:VTIMEZONE
TZID:America/New_York
BEGIN:STANDARD
TZNAME:EST
DTSTART:20251102T020000
TZOFFSETFROM:-0400
TZOFFSETTO:-0500
RDATE:20261101T020000
RDATE:20271107T020000
END:STANDARD
BEGIN:DAYLIGHT
TZNAME:EDT
DTSTART:20260308T020000
TZOFFSETFROM:-0500
TZOFFSETTO:-0400
RDATE:20270314T020000
END:DAYLIGHT
END:VTIMEZONE
BEGIN:VEVENT
UID:588638af-6be9-46e2-88d0-30c2f82b265b
DTSTAMP:20260423T204755Z
DESCRIPTION:As substance misuse prevention professionals\, we regularly fac
 e situations that require us to make ethical decisions. Often it is clear 
 how to act ethically\; sometimes it is not.\n\nThis six-hour course is the
  original SAMHSA Center for Application of Prevention Technologies (CAPT) 
 course\, which explores the six principles of the Prevention Code of Ethic
 s. The course also introduces a decision-making process to help practition
 ers apply this code to a variety of ethical dilemmas. \n\n6 hours of WVCBA
 PP continuing education available.  \n\n**Please Note:  Continuing educati
 on credits for this course meet the Prevention Ethics requirements for cer
 tification. Please note that this course does NOT meet the requirements fo
 r Peer Ethics.
DTSTART;TZID=America/New_York:20260622T083000
DTEND;TZID=America/New_York:20260622T170000
LOCATION:Stonewall Resort\, 940 Resort Drive\, Roanoke\, WV 26447 US
SUMMARY:Foundations of Prevention Ethics Course
END:VEVENT
END:VCALENDAR
