BEGIN:VCALENDAR
VERSION:2.0
PRODID:-//wvpreventionsolutions.org//NONSGML kigkonsult.se iCalcreator 2.30
 .10//
CALSCALE:GREGORIAN
METHOD:PUBLISH
UID:cac2caec-92d4-49d1-b534-871a3b6571ac
X-WR-CALDESC:What makes a town hall truly impactful—and what doesn’t? This 
 webinar breaks down the essential elements of successful community town ha
 lls\, including how to define your purpose\, who to invite\, and how to fo
 ster meaningful engagement. Participants will learn practical strategies f
 or planning\, facilitating\, and evaluating town halls\, as well as how to
  build authentic connections with community members around important topic
 s.\n\nPresented by Orion Strategies\n\nOne full hour of the webinar will b
 e dedicated to instruction and allow time for follow up and specific quest
 ions for 30 minutes. \n\n1.5 hours of WVCBAPP CEUs available.
X-WR-RELCALID:9c78125ae8e5b62f3c78bea85fc273aa
X-WR-TIMEZONE:America/New_York
BEGIN:VTIMEZONE
TZID:America/New_York
BEGIN:STANDARD
TZNAME:EST
DTSTART:20251102T020000
TZOFFSETFROM:-0400
TZOFFSETTO:-0500
RDATE:20261101T020000
RDATE:20271107T020000
END:STANDARD
BEGIN:DAYLIGHT
TZNAME:EDT
DTSTART:20260308T020000
TZOFFSETFROM:-0500
TZOFFSETTO:-0400
RDATE:20270314T020000
END:DAYLIGHT
END:VTIMEZONE
BEGIN:VEVENT
UID:24ab4ad1-4179-4a6f-b269-ec3c8b08cc9c
DTSTAMP:20260423T205025Z
DESCRIPTION:What makes a town hall truly impactful—and what doesn’t? This w
 ebinar breaks down the essential elements of successful community town hal
 ls\, including how to define your purpose\, who to invite\, and how to fos
 ter meaningful engagement. Participants will learn practical strategies fo
 r planning\, facilitating\, and evaluating town halls\, as well as how to 
 build authentic connections with community members around important topics
 .\n\nPresented by Orion Strategies\n\nOne full hour of the webinar will be
  dedicated to instruction and allow time for follow up and specific questi
 ons for 30 minutes. \n\n1.5 hours of WVCBAPP CEUs available.
DTSTART;TZID=America/New_York:20260527T130000
DTEND;TZID=America/New_York:20260527T143000
LOCATION:
SUMMARY:Beyond the Microphone: Hosting Effective Community Town Halls
END:VEVENT
END:VCALENDAR
